BEGIN:VCALENDAR
VERSION:2.0
PRODID:-//The Creative Cocoon - ECPv6.11.2.1//NONSGML v1.0//EN
CALSCALE:GREGORIAN
METHOD:PUBLISH
X-WR-CALNAME:The Creative Cocoon
X-ORIGINAL-URL:https://thecreativecocoon.ca
X-WR-CALDESC:Events for The Creative Cocoon
REFRESH-INTERVAL;VALUE=DURATION:PT1H
X-Robots-Tag:noindex
X-PUBLISHED-TTL:PT1H
BEGIN:VTIMEZONE
TZID:America/New_York
BEGIN:DAYLIGHT
TZOFFSETFROM:-0500
TZOFFSETTO:-0400
TZNAME:EDT
DTSTART:20250309T070000
END:DAYLIGHT
BEGIN:STANDARD
TZOFFSETFROM:-0400
TZOFFSETTO:-0500
TZNAME:EST
DTSTART:20251102T060000
END:STANDARD
BEGIN:DAYLIGHT
TZOFFSETFROM:-0500
TZOFFSETTO:-0400
TZNAME:EDT
DTSTART:20260308T070000
END:DAYLIGHT
BEGIN:STANDARD
TZOFFSETFROM:-0400
TZOFFSETTO:-0500
TZNAME:EST
DTSTART:20261101T060000
END:STANDARD
END:VTIMEZONE
BEGIN:VEVENT
DTSTART;TZID=America/New_York:20250602T180000
DTEND;TZID=America/New_York:20250630T200000
DTSTAMP:20260420T035519
CREATED:20250405T233635Z
LAST-MODIFIED:20250624T023354Z
UID:1016-1748887200-1751313600@thecreativecocoon.ca
SUMMARY:Drawing classes
DESCRIPTION:Unleash Your Creativity! \nJoin local artist Georgina Ball for a drawing classes like no other! Georgina believes that ANYONE can draw\, and she’s here to show you how. \nIn this interactive and supportive class\, you’ll learn the fundamentals of drawing and discover your own unique style. Georgina will guide you through exercises and techniques to help you build confidence and skill. \nWhether you’re a complete beginner or looking to reignite your creative spark\, this workshop is perfect for you! \nDon’t miss this opportunity to tap into your artistic side and have fun while doing it! \nClass Information:  \nInstructor : Local artist Georgina Ball \nDate: Starting Monday\, June 2nd \nTime: Mondays\, 6:00pm-7pm \nClass Length: 5 weeks June 2\, 9\, 16\, 23 & 30 \nClass fee: $40 \nAge Group: 16 + \nTo register: email info@thecreativecocoon.ca \nWhat to bring: Yourself\, a pencil\, eraser\, 11×14 sketchpad and a willingness to create! \nLocation: 440 Recreation Centre  \nProgram Registration\nTo secure your spot in the upcoming Creative Cocoon program\, please follow these steps:\n\nClick “Going” on the event.\nComplete and submit The Registration Form\n\nImportant Details:\n\nRegistration is required to participate\, and your spot is only secured once full payment has been received.\nSpots are limited\, so please register and make payment as soon as possible to avoid disappointment.\n\n\nWe appreciate your support! Get ready to unleash your imagination with The Creative Cocoon. You’ll receive payment details shortly to complete your registration.
URL:https://thecreativecocoon.ca/classes/drawing-classes/
LOCATION:The Creative Cocoon Inc\, 440 Recreation Centre\, Arborg\, Manitoba\, R0C 0A0\, Canada
CATEGORIES:Adults,Programs
ATTACH;FMTTYPE=image/jpeg:https://thecreativecocoon.ca/wp-content/uploads/2025/04/drawing-classes.jpg
END:VEVENT
BEGIN:VEVENT
DTSTART;TZID=America/New_York:20250715T180000
DTEND;TZID=America/New_York:20250920T200000
DTSTAMP:20260420T035519
CREATED:20250623T181000Z
LAST-MODIFIED:20250704T214126Z
UID:1428-1752602400-1758398400@thecreativecocoon.ca
SUMMARY:Extras Casting Call
DESCRIPTION:EXTRAS WANTED!\n🎭Join The Creative Cocoon’s community production of  \nInto the Woods Jr. as an extra! 🎶\nNo acting experience necessary\, just enthusiasm and energy! 💫 \nClass Details\n\nWhen: Tuesdays 6pm-8pm\nStart Date: July 14\, 2025\nDuration: 13 Classes in total (September acting classes will be 2 days a week * Thursdays 6pm-8pm) \nAges: Children 10 and up (turning 10 in 2025)\nCost: $175.00\nProduction: September 20th\, 2025\nTo register: email info@thecreativecocoon.ca\nLocation: 440 Recreation Centre\, Arborg\nBecome apart of the story. Contact us to learn more!\n🦋\nProgram Registration\nTo secure your spot in the upcoming Creative Cocoon program\, please follow these steps:\n\nClick “Going” on the event.\nComplete and submit The Registration Form\n\nImportant Details:\n\nRegistration is required to participate\, and your spot is only secured once full payment has been received.\nSpots are limited\, so please register and make payment as soon as possible to avoid disappointment.\n\n\nWe appreciate your support! Get ready to unleash your imagination with The Creative Cocoon. You’ll receive payment details shortly to complete your registration.\n\n 
URL:https://thecreativecocoon.ca/classes/extras-casting-call/
LOCATION:Manitoba
CATEGORIES:Kids
ATTACH;FMTTYPE=image/png:https://thecreativecocoon.ca/wp-content/uploads/2025/06/Canva-Design.png
END:VEVENT
BEGIN:VEVENT
DTSTART;TZID=America/New_York:20250730T160000
DTEND;TZID=America/New_York:20250730T173000
DTSTAMP:20260420T035519
CREATED:20250704T211228Z
LAST-MODIFIED:20250704T214435Z
UID:1446-1753891200-1753896600@thecreativecocoon.ca
SUMMARY:KIDS Bisque Pottery Painting Class
DESCRIPTION:Unleash your mini Picasso! 🎨🖌️ Join our fun BISQUE POTTERY PAINTING CLASS for kids! 👀 No experience needed – just bring your creativity! 💡 All supplies included! \n🎉 Make it a party or join solo – we’ll provide the ceramics and fun! 🌟 Limited spots available! 📣Select multiple pieces to paint and get a better price! Sign up now! \nClass Details \nInstructor: Mike & Kailey Coupland \nMiKao Makery \nDate: Wednesday\, July 30th \nTime: 4:00pm \nDuration: 1.5 hour \nAges: 6+ (including those turning 6 in 2025) \nCost: $25.00 (one item) \n$20.00 / item (two or more items) \nLimited space: 20 spots \nItems available: Small plates mini pots/ vase or small animals \nTo register: DM us! Or email info@thecreativecocoon.ca \nLocation: 440 Recreation Centre\, Arborg \n*No cancellations or refunds will be taken two weeks prior to the workshop date \n*If the minimum number of ticket sales has not been reached\, we will contact you. \n🦋 \nProgram Registration\nTo secure your spot in the upcoming Creative Cocoon program\, please follow these steps:\n\nClick “Going” on the event.\nComplete and submit The Registration Form\n\nImportant Details:\n\nRegistration is required to participate\, and your spot is only secured once full payment has been received.\nSpots are limited\, so please register and make payment as soon as possible to avoid disappointment.\n\n\nWe appreciate your support! Get ready to unleash your imagination with The Creative Cocoon. You’ll receive payment details shortly to complete your registration.\n#thecreativecocoon #KidsArtClass #BisquePottery #PaintYourOwn #KidsCreativity #CeramicArt
URL:https://thecreativecocoon.ca/classes/kids-bisque-pottery-painting-class/
LOCATION:The Creative Cocoon Inc\, 440 Recreation Centre\, Arborg\, Manitoba\, R0C 0A0\, Canada
CATEGORIES:Kids
ATTACH;FMTTYPE=image/png:https://thecreativecocoon.ca/wp-content/uploads/2025/07/Kids-1.png
END:VEVENT
BEGIN:VEVENT
DTSTART;TZID=America/New_York:20250730T190000
DTEND;TZID=America/New_York:20250730T203000
DTSTAMP:20260420T035519
CREATED:20250704T213936Z
LAST-MODIFIED:20250704T214015Z
UID:1461-1753902000-1753907400@thecreativecocoon.ca
SUMMARY:ADULT Bisque Pottery Painting Class
DESCRIPTION:Get creative and unleash your inner artist! 🎨🖌️ Join our upcoming BISQUE POTTERY PAINTING CLASS for adults and add a pop of persanlized colour to your ceramics! 👀 No experience needed – just bring your imagination! 💡 All supplies included! Limited spots available! Sign up now and let’s get painting! 📣 Plus\, select multiple items to paint and get a better price! 🎉 \nClass Details\nInstructor: Mike & Kailey Coupland\nMiKao Makery\nDate: Wednesday\, July 30th\nTime: 7:00pm\nDuration: 1.5 hour\nCost:$35.00 ( one item )\n$30.00 / item ( two or more times )\nMugs\, frog\, bowl\n$45.00 Butter Dish\nLimited space: 30 spots\nPlease Note: This class requires a minimum of 10 participants to run.\nItems available: Mugs\, frogs\, bowls\, or butter dish see images for selections\nTo register: DM us! Or email info@thecreativecocoon.ca\nLocation: 440 Recreation Centre\, Arborg \n*No cancellations or refunds will be taken two weeks prior to the workshop date\n*If the minimum number of ticket sales has not been reached\, we will contact you to reschedule. \n🦋 \nProgram Registration \nTo secure your spot in the upcoming Creative Cocoon program\, please follow these steps:\nClick “Going” on the event.\nComplete and submit The Registration Form\nImportant Details: \nRegistration is required to participate\, and your spot is only secured once full payment has been received.\nSpots are limited\, so please register and make payment as soon as possible to avoid disappointment.\nWe appreciate your support! Get ready to unleash your imagination with The Creative Cocoon. You’ll receive payment details shortly to complete your registration.
URL:https://thecreativecocoon.ca/classes/adult-bisque-pottery-class/
LOCATION:The Creative Cocoon Inc\, 440 Recreation Centre\, Arborg\, Manitoba\, R0C 0A0\, Canada
CATEGORIES:Adults,Seniors
ATTACH;FMTTYPE=image/png:https://thecreativecocoon.ca/wp-content/uploads/2025/07/Bisque-1.png
END:VEVENT
BEGIN:VEVENT
DTSTART;TZID=America/New_York:20250731T190000
DTEND;TZID=America/New_York:20250731T213000
DTSTAMP:20260420T035519
CREATED:20250715T011011Z
LAST-MODIFIED:20250715T011011Z
UID:1469-1753988400-1753997400@thecreativecocoon.ca
SUMMARY:Charcuterie Board Workshop
DESCRIPTION:Get ready to unleash your creativity! 🌟 Join us at The Creative Cocoon’s upcoming slab workshop: Creature Your Own Charcuterie Board. Let your imagination run wild and design a one-of-a-kind charcuterie board that’s as delicious as it is Pinterest-worthy! 📸 \nClass Details\nInstructor: Mike & Kailey Coupland \nMiKao Makery  \nDate: Thursday\, July 31st \nTime: 7 pm  \nDuration: 2.5 hour \nCost:$55.00  \nLimited space: 20 spots  \nPlease Note: This class requires a minimum of 10 participants to run. \nTo register: email info@thecreativecocoon.ca \nLocation: 440 Recreation Centre\, Arborg \n🦋 \nProgram Registration\nTo secure your spot in the upcoming Creative Cocoon program\, please follow these steps:\n\nClick “Going” on the event.\nComplete and submit The Registration Form\n\nImportant Details:\n\nRegistration is required to participate\, and your spot is only secured once full payment has been received.\nSpots are limited\, so please register and make payment as soon as possible to avoid disappointment.\n\n\nWe appreciate your support! Get ready to unleash your imagination with The Creative Cocoon. You’ll receive payment details shortly to complete your registration.
URL:https://thecreativecocoon.ca/classes/charcuterie-board-workshop/
LOCATION:The Creative Cocoon Inc\, 440 Recreation Centre\, Arborg\, Manitoba\, R0C 0A0\, Canada
CATEGORIES:Adults,Seniors
ATTACH;FMTTYPE=image/png:https://thecreativecocoon.ca/wp-content/uploads/2025/07/pottery.png
END:VEVENT
BEGIN:VEVENT
DTSTART;TZID=America/New_York:20251021T173000
DTEND;TZID=America/New_York:20251021T213000
DTSTAMP:20260420T035519
CREATED:20251008T033125Z
LAST-MODIFIED:20251008T033550Z
UID:1545-1761067800-1761082200@thecreativecocoon.ca
SUMMARY:Dance Class
DESCRIPTION:🎉 Registration Now Open!🎉\n\nGet Ready to Dance! 💃🕺🏼 Give your child the spotlight they deserve with our fun\, energetic Jazz Dance Classes\, tailored just for kids! 🌟\n\n \nJazz Dance Class Details\nInstructor: AJ Platt\nDay of the week: Tuesday’s\nStarting: October 21\, 2025\nEnding: May 12\, 2026\nNumber of Dance Classes: 23\n\n \nJazz Dance groups\n\nAge Group: 5-6yrs (turning 5 this year)\nStart Time: 5:30pm\nClass Length: 45min\nCost: $375.00\n\n \nAge Group: 7-9yrs\nStart Time: 6:30pm\nClass Length: 1 hour\nCost: $375.00\n\n \nAge Group: 10-12yrs\nStart Time: 7:30pm\nClass Length: 1 hour\nCost: $375.00\n\n \nAge Group: 13yrs +\nStart Time: 8:30pm\nClass Length: 1 hour\nCost: $375.00\n\n \nTo register: DM us! Or email info@thecreativecocoon.ca\nLocation: 440 Recreation Centre\, Arborg\n\n \n🌟The Dance Groups will have a Spring Tea in May.\n🌟Festival of The Arts registration. Additional fees will apply for the festival\, cost costumes\n\n \nNo Dance Class Dates:\n\nNovember 11\nNovember 18\nDecember 2\nDecember 30\nJanuary 6\nJanuary 13\nMarch 31\n\n \nMinimum Registration Requirement: If we don’t meet the minimum registration requirement\, we’ll reach out to you.\n\n🦋\n\nProgram Registration\nTo secure your spot in the upcoming Creative Cocoon program\, please follow these steps:\n\nClick “Going” on the event.\nComplete and submit The Registration Form\n\nImportant Details:\n\nRegistration is required to participate\, and your spot is only secured once full payment has been received.\nSpots are limited\, so please register and make payment as soon as possible to avoid disappointment.\n\n\nWe appreciate your support! Get ready to unleash your imagination with The Creative Cocoon. You’ll receive payment details shortly to complete your registration.\n\n\n#thecreativecocoon #interlakedance #arborg #arborgmanitoba #danceclasses #jazzdance
URL:https://thecreativecocoon.ca/classes/dance-class/
LOCATION:The Creative Cocoon Inc\, 440 Recreation Centre\, Arborg\, Manitoba\, R0C 0A0\, Canada
CATEGORIES:Kids
ATTACH;FMTTYPE=image/jpeg:https://thecreativecocoon.ca/wp-content/uploads/2025/10/1000034294.jpeg
END:VEVENT
BEGIN:VEVENT
DTSTART;TZID=America/New_York:20251030T183000
DTEND;TZID=America/New_York:20251030T193000
DTSTAMP:20260420T035519
CREATED:20251008T034739Z
LAST-MODIFIED:20251008T034739Z
UID:1554-1761849000-1761852600@thecreativecocoon.ca
SUMMARY:Adult Dance Class
DESCRIPTION:Calling all couples and dance enthusiasts!\n\n \nDo you and your partner like to dance at socials & weddings?  Are you and your partner looking for a fun date night? 🤩 Why not try dance class with us! 🌟\nJoin Gail Hurak for an Introduction to East Coast Swing and Basic Fox-Trot! 💃🕺🏼\n\n \n\nAdult Class Details\nInstructor: Gail Hurak\n\n \nDates:  Thursday\, October 30TH\n             Thursday\, November 13TH\n             Thursday\, November 27TH\nTime: 6:30pm-7:30pm\nAges: Adult 18 +\nCost: $40.00 per couple per class. Can’t make all the dates? No worries! Pay only for the classes that fit your schedule.\nTo register: DM us! Or email info@thecreativecocoon.ca\nLocation: 440 Recreation Centre\, Arborg\n\n \nDon’t miss out! Limited spots available! 🔔\n\n \nLet’s dance the night away! 💃🕺\n\n\nProgram Registration\nTo secure your spot in the upcoming Creative Cocoon program\, please follow these steps:\n\nClick “Going” on the event.\nComplete and submit The Registration Form\n\nImportant Details:\n\nRegistration is required to participate\, and your spot is only secured once full payment has been received.\nSpots are limited\, so please register and make payment as soon as possible to avoid disappointment.\n\n\nWe appreciate your support! Get ready to unleash your imagination with The Creative Cocoon. You’ll receive payment details shortly to complete your registration.\n\n\nIf we don’t meet the minimum registration requirement\, we’ll reach out to you about rescheduling options.\n\n🦋\n\n#thecreativecocoon  #datenight #socialdance #eastcoastswing #foxtrot #dancewithus #arborg #townofarborg  #interlakedance
URL:https://thecreativecocoon.ca/classes/adult-dance-class/
LOCATION:The Creative Cocoon Inc\, 440 Recreation Centre\, Arborg\, Manitoba\, R0C 0A0\, Canada
CATEGORIES:Adults,Seniors
ATTACH;FMTTYPE=image/jpeg:https://thecreativecocoon.ca/wp-content/uploads/2025/10/1000034295.jpeg
END:VEVENT
BEGIN:VEVENT
DTSTART;TZID=America/New_York:20260202T183000
DTEND;TZID=America/New_York:20260223T210000
DTSTAMP:20260420T035519
CREATED:20260127T170919Z
LAST-MODIFIED:20260127T173918Z
UID:1606-1770057000-1771880400@thecreativecocoon.ca
SUMMARY:Introduction to Watercolour Classes
DESCRIPTION:Get ready to splash into watercolour! Join local artist Georgina Ball for ‘Fun with Watercolour’\, a 4-week intro series perfect for beginners or those looking to rekindle their creative spark. Explore techniques\, play with texture\, and create beautiful pieces in a relaxed setting. \n* No experience needed\, beginners are welcome! \nWorkshop Details:\nInstructor: Local Artist Georgina Ball\nWorkshop start time: 6:30PM\nWorkshop length : 1.5 hour per workshop\nWorkshop fee: $ 40.00\nAll supplies are included\, paint brushes\, paint\, and paper are all yours to keep! \nWorkshop Dates:\n🗓️ Monday\, February 2\n🗓️ Monday\, February 9\n🗓️ Monday\, February 16\n🗓️ Monday\, February 23 \nLocation: The Creative Cocoon Studio 440 Recreation Centre\, Arborg\nYouth Welcomed: This workshop is open to youth 10 and older *when accompanied by a guardian.* \nRegistration: DM or email info@thecreativecocoon.ca\nWorkshop size: Is limited to ensure personalized attention. The workshop requires a minimum of 8 participants to run\, and we can accommodate up to 10 participants maximum. \n*If the minimum number of participants has not been reached\, we will contact you. \n\nProgram Registration\nTo secure your spot in the upcoming Creative Cocoon program\, please follow these steps:\n\nClick “Going” on the event.\nComplete and submit The Registration Form\n\nImportant Details:\n\nRegistration is required to participate\, and your spot is only secured once full payment has been received.\nSpots are limited\, so please register and make payment as soon as possible to avoid disappointment.\n\n\nWe appreciate your support! Get ready to unleash your imagination with The Creative Cocoon. You’ll receive payment details shortly to complete your registration.\n\n\nIf we don’t meet the minimum registration requirement\, we’ll reach out to you about rescheduling options.\n\n🦋
URL:https://thecreativecocoon.ca/classes/introduction-to-watercolour-classes/
LOCATION:The Creative Cocoon Inc\, 440 Recreation Centre\, Arborg\, Manitoba\, R0C 0A0\, Canada
CATEGORIES:Programs
ATTACH;FMTTYPE=image/jpeg:https://thecreativecocoon.ca/wp-content/uploads/2026/01/9084596190415458787.jpeg
END:VEVENT
BEGIN:VEVENT
DTSTART;TZID=America/New_York:20260302T183000
DTEND;TZID=America/New_York:20260330T210000
DTSTAMP:20260420T035519
CREATED:20260127T172936Z
LAST-MODIFIED:20260127T172936Z
UID:1614-1772476200-1774904400@thecreativecocoon.ca
SUMMARY:Clay Sculpture Classes
DESCRIPTION:The Creative Cocoon Presents Hand Build Clay Sculpture Class with local artist Jerry Maryniuk \nJoin us for a multi-class workshop where you’ll hand-sculpt a unique raccoon from potter’s clay. Over the course of 3+ classes\, you’ll learn the techniques to create your very own raccoon sculpture\, which will then be kiln-fired and transformed into a stunning piece of art\, mounted on wood !! \n* No experience needed\, beginners are welcome! \nWorkshop Details\nInstructor: Local Artist Jerry Maryniuk\nWorkshop start time: 6:30PM\nWorkshop length : 2 hours per workshop\nWorkshop fee: $ 80.00\nWorkshop Dates:\n🗓️ Monday\, March 2\n🗓️ Monday\, March 16\n🗓️ Monday\, March 23\n🗓️ Monday\, March 30 🔔\n🔔Our March 30th class is currently scheduled\, but may be cancelled or adjusted depending on the class’s progress. Class instructor will keep you updated!\nLocation: The Creative Cocoon Studio 440 Recreation Centre\, Arborg\nYouth Welcomed: This workshop is open to youth 10 and older *when accompanied by a guardian.*\nRegistration: DM or email info@thecreativecocoon.ca\nWorkshop size: Is limited to ensure personalized attention. The workshop requires a minimum of 8 participants to run\, and we can accommodate up to 10 participants maximum. \n*If the minimum number of participants has not been reached\, we will contact you. \n\nProgram Registration\nTo secure your spot in the upcoming Creative Cocoon program\, please follow these steps:\n\nClick “Going” on the event.\nComplete and submit The Registration Form\n\nImportant Details:\n\nRegistration is required to participate\, and your spot is only secured once full payment has been received.\nSpots are limited\, so please register and make payment as soon as possible to avoid disappointment.\n\n\nWe appreciate your support! Get ready to unleash your imagination with The Creative Cocoon. You’ll receive payment details shortly to complete your registration.\n\n\nIf we don’t meet the minimum registration requirement\, we’ll reach out to you about rescheduling options.\n\n🦋
URL:https://thecreativecocoon.ca/classes/clay-sculpture-classes/
LOCATION:The Creative Cocoon Inc\, 440 Recreation Centre\, Arborg\, Manitoba\, R0C 0A0\, Canada
CATEGORIES:Adults,Seniors
ATTACH;FMTTYPE=image/jpeg:https://thecreativecocoon.ca/wp-content/uploads/2026/01/7521952073114171910.jpeg
END:VEVENT
END:VCALENDAR