BEGIN:VCALENDAR
VERSION:2.0
PRODID:-//The Creative Cocoon - ECPv6.11.2.1//NONSGML v1.0//EN
CALSCALE:GREGORIAN
METHOD:PUBLISH
X-WR-CALNAME:The Creative Cocoon
X-ORIGINAL-URL:https://thecreativecocoon.ca
X-WR-CALDESC:Events for The Creative Cocoon
REFRESH-INTERVAL;VALUE=DURATION:PT1H
X-Robots-Tag:noindex
X-PUBLISHED-TTL:PT1H
BEGIN:VTIMEZONE
TZID:America/New_York
BEGIN:DAYLIGHT
TZOFFSETFROM:-0500
TZOFFSETTO:-0400
TZNAME:EDT
DTSTART:20250309T070000
END:DAYLIGHT
BEGIN:STANDARD
TZOFFSETFROM:-0400
TZOFFSETTO:-0500
TZNAME:EST
DTSTART:20251102T060000
END:STANDARD
END:VTIMEZONE
BEGIN:VEVENT
DTSTART;TZID=America/New_York:20250715T180000
DTEND;TZID=America/New_York:20250920T200000
DTSTAMP:20260419T185231
CREATED:20250623T181000Z
LAST-MODIFIED:20250704T214126Z
UID:1428-1752602400-1758398400@thecreativecocoon.ca
SUMMARY:Extras Casting Call
DESCRIPTION:EXTRAS WANTED!\n🎭Join The Creative Cocoon’s community production of  \nInto the Woods Jr. as an extra! 🎶\nNo acting experience necessary\, just enthusiasm and energy! 💫 \nClass Details\n\nWhen: Tuesdays 6pm-8pm\nStart Date: July 14\, 2025\nDuration: 13 Classes in total (September acting classes will be 2 days a week * Thursdays 6pm-8pm) \nAges: Children 10 and up (turning 10 in 2025)\nCost: $175.00\nProduction: September 20th\, 2025\nTo register: email info@thecreativecocoon.ca\nLocation: 440 Recreation Centre\, Arborg\nBecome apart of the story. Contact us to learn more!\n🦋\nProgram Registration\nTo secure your spot in the upcoming Creative Cocoon program\, please follow these steps:\n\nClick “Going” on the event.\nComplete and submit The Registration Form\n\nImportant Details:\n\nRegistration is required to participate\, and your spot is only secured once full payment has been received.\nSpots are limited\, so please register and make payment as soon as possible to avoid disappointment.\n\n\nWe appreciate your support! Get ready to unleash your imagination with The Creative Cocoon. You’ll receive payment details shortly to complete your registration.\n\n 
URL:https://thecreativecocoon.ca/classes/extras-casting-call/
LOCATION:Manitoba
CATEGORIES:Kids
ATTACH;FMTTYPE=image/png:https://thecreativecocoon.ca/wp-content/uploads/2025/06/Canva-Design.png
END:VEVENT
END:VCALENDAR